BEGIN:VCALENDAR
VERSION:2.0
PRODID:-//DCEFF - ECPv6.15.20//NONSGML v1.0//EN
CALSCALE:GREGORIAN
METHOD:PUBLISH
X-ORIGINAL-URL:https://dceff.org
X-WR-CALDESC:Events for DCEFF
REFRESH-INTERVAL;VALUE=DURATION:PT1H
X-Robots-Tag:noindex
X-PUBLISHED-TTL:PT1H
BEGIN:VTIMEZONE
TZID:America/New_York
BEGIN:DAYLIGHT
TZOFFSETFROM:-0500
TZOFFSETTO:-0400
TZNAME:EDT
DTSTART:20220313T070000
END:DAYLIGHT
BEGIN:STANDARD
TZOFFSETFROM:-0400
TZOFFSETTO:-0500
TZNAME:EST
DTSTART:20221106T060000
END:STANDARD
BEGIN:DAYLIGHT
TZOFFSETFROM:-0500
TZOFFSETTO:-0400
TZNAME:EDT
DTSTART:20230312T070000
END:DAYLIGHT
BEGIN:STANDARD
TZOFFSETFROM:-0400
TZOFFSETTO:-0500
TZNAME:EST
DTSTART:20231105T060000
END:STANDARD
BEGIN:DAYLIGHT
TZOFFSETFROM:-0500
TZOFFSETTO:-0400
TZNAME:EDT
DTSTART:20240310T070000
END:DAYLIGHT
BEGIN:STANDARD
TZOFFSETFROM:-0400
TZOFFSETTO:-0500
TZNAME:EST
DTSTART:20241103T060000
END:STANDARD
END:VTIMEZONE
BEGIN:VEVENT
DTSTART;TZID=America/New_York:20230914T120000
DTEND;TZID=America/New_York:20230924T233000
DTSTAMP:20260424T091837
CREATED:20230816T200915Z
LAST-MODIFIED:20230818T201516Z
UID:23385-1694692800-1695598200@dceff.org
SUMMARY:Climate Week NYC: Climate Films Playlist (Virtual)
DESCRIPTION:Co-presented with Grist as part of Climate Week NYC \nThis special Climate Week Playlist features short films from recent years of DCEFF that touch on different aspects of the climate crisis — from environmental justice and rising sea levels to policy challenges and affected wildlife. \nThese films will be available to stream for free any time from September 14-24. Viewers are free to exit the screening and return to finish watching the films over the course of the week.
URL:https://dceff.org/event/climate-week-nyc-climate-films-playlist-virtual/
LOCATION:DC
CATEGORIES:Virtual
ATTACH;FMTTYPE=image/png:https://dceff.org/wp-content/uploads/2023/08/Climate-Playlist-Event.png
END:VEVENT
END:VCALENDAR