BEGIN:VCALENDAR
VERSION:2.0
PRODID:-//DCEFF - ECPv6.15.20//NONSGML v1.0//EN
CALSCALE:GREGORIAN
METHOD:PUBLISH
X-WR-CALNAME:DCEFF
X-ORIGINAL-URL:https://dceff.org
X-WR-CALDESC:Events for DCEFF
REFRESH-INTERVAL;VALUE=DURATION:PT1H
X-Robots-Tag:noindex
X-PUBLISHED-TTL:PT1H
BEGIN:VTIMEZONE
TZID:America/New_York
BEGIN:DAYLIGHT
TZOFFSETFROM:-0500
TZOFFSETTO:-0400
TZNAME:EDT
DTSTART:20240310T070000
END:DAYLIGHT
BEGIN:STANDARD
TZOFFSETFROM:-0400
TZOFFSETTO:-0500
TZNAME:EST
DTSTART:20241103T060000
END:STANDARD
BEGIN:DAYLIGHT
TZOFFSETFROM:-0500
TZOFFSETTO:-0400
TZNAME:EDT
DTSTART:20250309T070000
END:DAYLIGHT
BEGIN:STANDARD
TZOFFSETFROM:-0400
TZOFFSETTO:-0500
TZNAME:EST
DTSTART:20251102T060000
END:STANDARD
BEGIN:DAYLIGHT
TZOFFSETFROM:-0500
TZOFFSETTO:-0400
TZNAME:EDT
DTSTART:20260308T070000
END:DAYLIGHT
BEGIN:STANDARD
TZOFFSETFROM:-0400
TZOFFSETTO:-0500
TZNAME:EST
DTSTART:20261101T060000
END:STANDARD
END:VTIMEZONE
BEGIN:VEVENT
DTSTART;TZID=America/New_York:20251020T180000
DTEND;TZID=America/New_York:20251020T210000
DTSTAMP:20260425T165256
CREATED:20250915T164500Z
LAST-MODIFIED:20250915T164500Z
UID:24529-1760983200-1760994000@dceff.org
SUMMARY:Journey of a Story: The White House Effect
DESCRIPTION:The Uproot Project\, in partnership with DCEFF\, presents an engaging evening exploring climate politics and trust in the media \nThe event will begin with a screening of 2025 DCEFF Opening Night Select The White House Effect. The film will be followed by a conversation with journalists Justin Worland from Time and Jenny Hijazi from Bloomberg\, moderated by Chelsea Henderson\, author of Glacial: The Inside Story of Climate Politics.
URL:https://dceff.org/event/journey-of-a-story-the-white-house-effect/
LOCATION:NYU DC\, 1307 L Street Northwest\, Washington\, DC\, 20005\, United States
ATTACH;FMTTYPE=image/jpeg:https://dceff.org/wp-content/uploads/2025/01/White-House-Effect-scaled-e1759167239543.jpg
END:VEVENT
END:VCALENDAR