BEGIN:VCALENDAR
VERSION:2.0
PRODID:-//DCEFF - ECPv6.15.20//NONSGML v1.0//EN
CALSCALE:GREGORIAN
METHOD:PUBLISH
X-WR-CALNAME:DCEFF
X-ORIGINAL-URL:https://dceff.org
X-WR-CALDESC:Events for DCEFF
REFRESH-INTERVAL;VALUE=DURATION:PT1H
X-Robots-Tag:noindex
X-PUBLISHED-TTL:PT1H
BEGIN:VTIMEZONE
TZID:America/New_York
BEGIN:DAYLIGHT
TZOFFSETFROM:-0500
TZOFFSETTO:-0400
TZNAME:EDT
DTSTART:20230312T070000
END:DAYLIGHT
BEGIN:STANDARD
TZOFFSETFROM:-0400
TZOFFSETTO:-0500
TZNAME:EST
DTSTART:20231105T060000
END:STANDARD
BEGIN:DAYLIGHT
TZOFFSETFROM:-0500
TZOFFSETTO:-0400
TZNAME:EDT
DTSTART:20240310T070000
END:DAYLIGHT
BEGIN:STANDARD
TZOFFSETFROM:-0400
TZOFFSETTO:-0500
TZNAME:EST
DTSTART:20241103T060000
END:STANDARD
BEGIN:DAYLIGHT
TZOFFSETFROM:-0500
TZOFFSETTO:-0400
TZNAME:EDT
DTSTART:20250309T070000
END:DAYLIGHT
BEGIN:STANDARD
TZOFFSETFROM:-0400
TZOFFSETTO:-0500
TZNAME:EST
DTSTART:20251102T060000
END:STANDARD
END:VTIMEZONE
BEGIN:VEVENT
DTSTART;TZID=America/New_York:20241205T100000
DTEND;TZID=America/New_York:20241208T233000
DTSTAMP:20260424T084906
CREATED:20241024T140153Z
LAST-MODIFIED:20241024T140153Z
UID:24018-1733392800-1733700600@dceff.org
SUMMARY:Farming While Black (Virtual)
DESCRIPTION:Join us for the final virtual encore of 2024! \nAs the co-founder of Soul Fire Farm in upstate New York\, Leah Penniman finds strength in the deep historical knowledge of African agrarianism – agricultural practices that can heal people and the planet. Influenced and inspired by Karen Washington\, a pioneer in urban community gardens in New York City\, and fellow farmer and organizer Blain Snipstal\, Leah galvanizes around farming as the basis of revolutionary justice. \nFarming While Black examines the historical plight of Black farmers in the United States and the rising generation reclaiming their rightful ownership to land and reconnecting with their ancestral roots.
URL:https://dceff.org/event/farming-while-black-virtual/
CATEGORIES:Virtual
ATTACH;FMTTYPE=image/jpeg:https://dceff.org/wp-content/uploads/2024/10/Farming-While-Black1.jpg
END:VEVENT
END:VCALENDAR