BEGIN:VCALENDAR
VERSION:2.0
PRODID:-//DCEFF - ECPv6.15.20//NONSGML v1.0//EN
CALSCALE:GREGORIAN
METHOD:PUBLISH
X-WR-CALNAME:DCEFF
X-ORIGINAL-URL:https://dceff.org
X-WR-CALDESC:Events for DCEFF
REFRESH-INTERVAL;VALUE=DURATION:PT1H
X-Robots-Tag:noindex
X-PUBLISHED-TTL:PT1H
BEGIN:VTIMEZONE
TZID:America/New_York
BEGIN:DAYLIGHT
TZOFFSETFROM:-0500
TZOFFSETTO:-0400
TZNAME:EDT
DTSTART:20240310T070000
END:DAYLIGHT
BEGIN:STANDARD
TZOFFSETFROM:-0400
TZOFFSETTO:-0500
TZNAME:EST
DTSTART:20241103T060000
END:STANDARD
BEGIN:DAYLIGHT
TZOFFSETFROM:-0500
TZOFFSETTO:-0400
TZNAME:EDT
DTSTART:20250309T070000
END:DAYLIGHT
BEGIN:STANDARD
TZOFFSETFROM:-0400
TZOFFSETTO:-0500
TZNAME:EST
DTSTART:20251102T060000
END:STANDARD
BEGIN:DAYLIGHT
TZOFFSETFROM:-0500
TZOFFSETTO:-0400
TZNAME:EDT
DTSTART:20260308T070000
END:DAYLIGHT
BEGIN:STANDARD
TZOFFSETFROM:-0400
TZOFFSETTO:-0500
TZNAME:EST
DTSTART:20261101T060000
END:STANDARD
END:VTIMEZONE
BEGIN:VEVENT
DTSTART;TZID=America/New_York:20250619T110000
DTEND;TZID=America/New_York:20250622T233000
DTSTAMP:20260420T164819
CREATED:20250528T173516Z
LAST-MODIFIED:20250528T173600Z
UID:24391-1750330800-1750635000@dceff.org
SUMMARY:Eric Moe Award Shorts: Keeper + Finalists (Virtual)
DESCRIPTION:Join us for a special virtual encore showcase of our 2025 Eric Moe Award winner and two additional finalists! \nKeeper\, the Student Academy Award winner and Oscar-shortlisted film\, follows Flynn\, a single father and empty nester in the Bronx\, as he cares for hives across the city — including several inside his daughter Alaura’s childhood bedroom. When Flynn receives a life-threatening diagnosis\, he reluctantly steps away from the bees under Alaura’s care. Battling cancer while fretting about his hives’ survival\, Flynn prepares his daughter to continue living powerfully — with or without him. \n  \n 
URL:https://dceff.org/event/eric-moe-award-shorts-keeper-finalists-virtual/
CATEGORIES:Virtual
ATTACH;FMTTYPE=image/png:https://dceff.org/wp-content/uploads/2025/05/Keeper-Blast3.png
END:VEVENT
END:VCALENDAR