BEGIN:VCALENDAR
VERSION:2.0
PRODID:-//DCEFF - ECPv6.15.20//NONSGML v1.0//EN
CALSCALE:GREGORIAN
METHOD:PUBLISH
X-WR-CALNAME:DCEFF
X-ORIGINAL-URL:https://dceff.org
X-WR-CALDESC:Events for DCEFF
REFRESH-INTERVAL;VALUE=DURATION:PT1H
X-Robots-Tag:noindex
X-PUBLISHED-TTL:PT1H
BEGIN:VTIMEZONE
TZID:America/New_York
BEGIN:DAYLIGHT
TZOFFSETFROM:-0500
TZOFFSETTO:-0400
TZNAME:EDT
DTSTART:20230312T070000
END:DAYLIGHT
BEGIN:STANDARD
TZOFFSETFROM:-0400
TZOFFSETTO:-0500
TZNAME:EST
DTSTART:20231105T060000
END:STANDARD
BEGIN:DAYLIGHT
TZOFFSETFROM:-0500
TZOFFSETTO:-0400
TZNAME:EDT
DTSTART:20240310T070000
END:DAYLIGHT
BEGIN:STANDARD
TZOFFSETFROM:-0400
TZOFFSETTO:-0500
TZNAME:EST
DTSTART:20241103T060000
END:STANDARD
BEGIN:DAYLIGHT
TZOFFSETFROM:-0500
TZOFFSETTO:-0400
TZNAME:EDT
DTSTART:20250309T070000
END:DAYLIGHT
BEGIN:STANDARD
TZOFFSETFROM:-0400
TZOFFSETTO:-0500
TZNAME:EST
DTSTART:20251102T060000
END:STANDARD
END:VTIMEZONE
BEGIN:VEVENT
DTSTART;TZID=America/New_York:20240925T171500
DTEND;TZID=America/New_York:20240925T184500
DTSTAMP:20260420T134417
CREATED:20240828T135331Z
LAST-MODIFIED:20240828T135331Z
UID:23985-1727284500-1727289900@dceff.org
SUMMARY:DCEFF at LAFF: Patrol
DESCRIPTION:A Co-presentation of AFI’s Latin American Film Festival and DCEFF \nNicaragua is one of the top five exporters of beef to the United States\, whose profits in the industry have grown by over 400 percent in the last decade — but at great cost to the Rama Indigenous people and the Kriol Afro-descendent population\, whose protected land in the rainforests is increasingly encroached upon and stolen by cattle ranchers seeking new land for their herds. An alliance between the two communities has led to the creation of Forest Ranger squads searching the area for signs of illegal encroachment. PATROL follows one of these squads as they patrol the region\, aided by an American conservationist\, encountering increasingly worrying levels of deforestation and signs that larger cattle-owning businesses are fast approaching.
URL:https://dceff.org/event/dceff-at-laff-patrol-2/
LOCATION:AFI Silver Theatre and Cultural Center\, 8633 Colesville Rd\, MD 20910\, Silver Spring\, MD\, United States
ATTACH;FMTTYPE=image/jpeg:https://dceff.org/wp-content/uploads/2024/08/Patrol1-2.jpg
END:VEVENT
END:VCALENDAR