BEGIN:VCALENDAR
VERSION:2.0
PRODID:-//DCEFF - ECPv6.15.20//NONSGML v1.0//EN
CALSCALE:GREGORIAN
METHOD:PUBLISH
X-WR-CALNAME:DCEFF
X-ORIGINAL-URL:https://dceff.org
X-WR-CALDESC:Events for DCEFF
REFRESH-INTERVAL;VALUE=DURATION:PT1H
X-Robots-Tag:noindex
X-PUBLISHED-TTL:PT1H
BEGIN:VTIMEZONE
TZID:America/New_York
BEGIN:DAYLIGHT
TZOFFSETFROM:-0500
TZOFFSETTO:-0400
TZNAME:EDT
DTSTART:20240310T070000
END:DAYLIGHT
BEGIN:STANDARD
TZOFFSETFROM:-0400
TZOFFSETTO:-0500
TZNAME:EST
DTSTART:20241103T060000
END:STANDARD
BEGIN:DAYLIGHT
TZOFFSETFROM:-0500
TZOFFSETTO:-0400
TZNAME:EDT
DTSTART:20250309T070000
END:DAYLIGHT
BEGIN:STANDARD
TZOFFSETFROM:-0400
TZOFFSETTO:-0500
TZNAME:EST
DTSTART:20251102T060000
END:STANDARD
BEGIN:DAYLIGHT
TZOFFSETFROM:-0500
TZOFFSETTO:-0400
TZNAME:EDT
DTSTART:20260308T070000
END:DAYLIGHT
BEGIN:STANDARD
TZOFFSETFROM:-0400
TZOFFSETTO:-0500
TZNAME:EST
DTSTART:20261101T060000
END:STANDARD
END:VTIMEZONE
BEGIN:VEVENT
DTSTART;TZID=America/New_York:20251204T211000
DTEND;TZID=America/New_York:20251204T230000
DTSTAMP:20260425T165019
CREATED:20251111T212056Z
LAST-MODIFIED:20251111T212056Z
UID:24588-1764882600-1764889200@dceff.org
SUMMARY:DCEFF at AFI's EU Showcase: The Love That Remains
DESCRIPTION:Co-presented by DCEFF and AFI Silver as part of their European Union Film Showcase \nAgainst the backdrop of Iceland’s magnificent landscape — a rugged island filled with winding roads amidst a majestic tundra — a marriage falls apart\, threatening to fracture a loving family. Fisherman Magnús (Sverrir Guðnason) has just moved out of the house he shares with his visual artist wife\, Anna (Saga Garðarsdóttir)\, and their three children\, Ída and twins Þorgils and Grímur (all three played by the real children of filmmaker Hlynur Pálmason\, GODLAND). The high school sweethearts have drifted apart as of late\, despite Magnús’ hope for reconciliation\, though they still spend time together for the sake of the kids. Working with a set-up that could easily veer toward melodrama\, Pálmason pens a surprisingly sensitive and poignant treatise on the ties that bind\, imbuing the scenario with a warm sense of humor and a charming thread of magical realism that combine into a powerful climax. \nThe gorgeous cinematography\, lensed in 35mm by Pálmason himself\, deftly renders the grandeur of the Icelandic setting. All of this is anchored by the compelling\, sly performances from all five principal players\, though special mention goes to the various critters that live with the family — chickens\, cows\, horses and one exceptional sheepdog named Panda\, who won the coveted Palm Dog award at this year’s Cannes Film Festival.
URL:https://dceff.org/event/dceff-at-afis-eu-showcase-the-love-that-remains/
LOCATION:AFI Silver Theatre and Cultural Center\, 8633 Colesville Rd\, MD 20910\, Silver Spring\, MD\, United States
END:VEVENT
END:VCALENDAR