BEGIN:VCALENDAR
VERSION:2.0
PRODID:-//DCEFF - ECPv6.15.20//NONSGML v1.0//EN
CALSCALE:GREGORIAN
METHOD:PUBLISH
X-WR-CALNAME:DCEFF
X-ORIGINAL-URL:https://dceff.org
X-WR-CALDESC:Events for DCEFF
REFRESH-INTERVAL;VALUE=DURATION:PT1H
X-Robots-Tag:noindex
X-PUBLISHED-TTL:PT1H
BEGIN:VTIMEZONE
TZID:America/New_York
BEGIN:DAYLIGHT
TZOFFSETFROM:-0500
TZOFFSETTO:-0400
TZNAME:EDT
DTSTART:20230312T070000
END:DAYLIGHT
BEGIN:STANDARD
TZOFFSETFROM:-0400
TZOFFSETTO:-0500
TZNAME:EST
DTSTART:20231105T060000
END:STANDARD
BEGIN:DAYLIGHT
TZOFFSETFROM:-0500
TZOFFSETTO:-0400
TZNAME:EDT
DTSTART:20240310T070000
END:DAYLIGHT
BEGIN:STANDARD
TZOFFSETFROM:-0400
TZOFFSETTO:-0500
TZNAME:EST
DTSTART:20241103T060000
END:STANDARD
BEGIN:DAYLIGHT
TZOFFSETFROM:-0500
TZOFFSETTO:-0400
TZNAME:EDT
DTSTART:20250309T070000
END:DAYLIGHT
BEGIN:STANDARD
TZOFFSETFROM:-0400
TZOFFSETTO:-0500
TZNAME:EST
DTSTART:20251102T060000
END:STANDARD
END:VTIMEZONE
BEGIN:VEVENT
DTSTART;TZID=America/New_York:20241204T191500
DTEND;TZID=America/New_York:20241204T213000
DTSTAMP:20260424T100517
CREATED:20241122T145225Z
LAST-MODIFIED:20241122T145225Z
UID:24028-1733339700-1733347800@dceff.org
SUMMARY:DCEFF at AFI: The Summer Book
DESCRIPTION:Co-presented with the AFI Silver Theatre and Cultural Center as part of their European Union Film Showcase \nSnatching her crown as the reigning queen of sweater vests\, Glenn Close is both hardened and endearing as a grandmother and seasoned Finnish artist in Charlie McDowell’s adaptation of Tove Jansson’s beloved Nordic novel of the same name. After her mother’s death\, Sophia (played by the scene-stealing Emily Matthews in her feature debut) and her father (Anders Danielsen Lie\, THE WORST PERSON IN THE WORLD) take refuge for the summer at her grandmother’s estate\, nestled on the shores of a remote Finnish island. As her father withdraws further into his solitude and grief\, Sophia and her grandmother spend precious time together exploring the island and growing closer.
URL:https://dceff.org/event/dceff-at-afi-the-summer-book/
LOCATION:AFI Silver Theatre and Cultural Center\, 8633 Colesville Rd\, MD 20910\, Silver Spring\, MD\, United States
ATTACH;FMTTYPE=image/jpeg:https://dceff.org/wp-content/uploads/2024/11/the-summer-book-still-01-scaled.jpg
END:VEVENT
END:VCALENDAR