BEGIN:VCALENDAR
VERSION:2.0
PRODID:-//DCEFF - ECPv6.15.20//NONSGML v1.0//EN
CALSCALE:GREGORIAN
METHOD:PUBLISH
X-WR-CALNAME:DCEFF
X-ORIGINAL-URL:https://dceff.org
X-WR-CALDESC:Events for DCEFF
REFRESH-INTERVAL;VALUE=DURATION:PT1H
X-Robots-Tag:noindex
X-PUBLISHED-TTL:PT1H
BEGIN:VTIMEZONE
TZID:UTC
BEGIN:STANDARD
TZOFFSETFROM:+0000
TZOFFSETTO:+0000
TZNAME:UTC
DTSTART:20210101T000000
END:STANDARD
END:VTIMEZONE
BEGIN:VEVENT
DTSTART;TZID=UTC:20220922T120000
DTEND;TZID=UTC:20220925T233000
DTSTAMP:20260421T002546
CREATED:20220815T154819Z
LAST-MODIFIED:20220822T131018Z
UID:22492-1663848000-1664148600@dceff.org
SUMMARY:After Antarctica
DESCRIPTION:Free virtual screening and filmmaker discussion streaming September 22-25. Co-Presented with Grist as part of Climate Week NYC. \nAn expedition across both poles following legendary explorer Will Steger’s lifelong journey as an eyewitness to our planet’s rapidly changing polar regions.
URL:https://dceff.org/event/after-antarctica/
CATEGORIES:Virtual
ATTACH;FMTTYPE=image/jpeg:https://dceff.org/wp-content/uploads/2022/08/After-Antarctica3-scaled.jpg
END:VEVENT
END:VCALENDAR